BEGIN:VCALENDAR
VERSION:2.0
PRODID:-//Library Market//iCal Export//EN
BEGIN:VEVENT
SUMMARY:Krafty Queens
UID:458756
DTSTAMP:20260424T004700Z
DTSTART:20260516T153000Z
DTEND:20260516T173000Z
LOCATION:Polk-Wisdom Branch Library, 7151 Library Lane, Dallas, TX 75232, 
 United States
ROOM: Polk-Wisdom - Classroom A &amp; B
DESCRIPTION:             Calling all Queens!               
 Do you like crafts?Join us for fun and glamorous crafts.
URL:https://dallaslibrary.librarymarket.com/event/krafty-queens-458756
END:VEVENT
END:VCALENDAR
