BEGIN:VCALENDAR
VERSION:2.0
PRODID:-//Library Market//iCal Export//EN
BEGIN:VEVENT
SUMMARY:Star Wars Day Fun
UID:484388
DTSTAMP:20260420T070900Z
DTSTART:20260504T050000Z
DTEND:20260504T050000Z
LOCATION:Lochwood Branch Library, 11221 Lochwood Boulevard, Dallas, TX 752
 18, United States
ROOM: Lochwood - In Library
DESCRIPTION:May the Force be with You as you take on one (or more) of our 
 Star Wars themed activities.
URL:https://dallaslibrary.librarymarket.com/event/star-wars-day-484388
END:VEVENT
END:VCALENDAR
