BEGIN:VCALENDAR
VERSION:2.0
PRODID:-//Library Market//iCal Export//EN
BEGIN:VEVENT
SUMMARY:Colonial Spycraft
UID:486408
DTSTAMP:20260422T043000Z
DTSTART:20260625T190000Z
DTEND:20260625T200000Z
LOCATION:Timberglen Branch Library, 18505 Midway Road, Dallas, TX 75287, U
 nited States
ROOM: Timberglen - Classroom
DESCRIPTION:Daring colonial men, women and children used their cunning ing
 enuity to spy on British troops. They passed along vital information that 
 aided our troops in securing our freedom. Though there were many spy rings
 , one of the most famous was the Culper Spy Ring that reported directly to
  George Washington. Delve into the lives of the members of the Culper Spy 
 Ring and uncover the secrets on how they used their limited resources, ing
 enuity and even scientific knowledge to defeat the British.“Washington d
 id not really outfight the British. He simply out-spied us.”-British Int
 elligence Officer This program is part of Dallas Public Library&#039;s 25
 0 Years of Us: Reading America&#039;s Past, Writing Our Future.
URL:https://dallaslibrary.librarymarket.com/event/colonial-spycraft-486408
END:VEVENT
END:VCALENDAR
