BEGIN:VCALENDAR
VERSION:2.0
PRODID:-//Library Market//iCal Export//EN
BEGIN:VEVENT
SUMMARY:PKR Summer Camp
UID:493776
DTSTAMP:20260420T211300Z
DTSTART:20260622T140000Z
DTEND:20260622T210000Z
LOCATION:Dallas West Branch Library, 2332 Singleton Boulevard, Dallas, TX 
 75212, United States
ROOM: Dallas West - Auditorium
DESCRIPTION:Library Hour returning and checking out books.
URL:https://dallaslibrary.librarymarket.com/event/pkr-summer-camp-493776
END:VEVENT
END:VCALENDAR
