BEGIN:VCALENDAR
VERSION:2.0
PRODID:-//Library Market//iCal Export//EN
BEGIN:VEVENT
SUMMARY:Juneteenth Mini Freedom Walk
UID:501434
DTSTAMP:20260425T135200Z
DTSTART:20260616T180000Z
DTEND:20260616T190000Z
LOCATION:Martin Luther King, Jr. Branch Library, 2922 Martin Luther King J
 r. Blvd., Dallas, TX 75215, United States
ROOM: Martin Luther King, Jr. - Children&#039;s area
DESCRIPTION:Learn about Juneteenth and the work that went into making it a
  federal holiday and participate in a Freedom Walk around the library.
URL:https://dallaslibrary.librarymarket.com/event/juneteenth-mini-freedom-
 walk-501434
END:VEVENT
END:VCALENDAR
