BEGIN:VCALENDAR
VERSION:2.0
PRODID:-//Library Market//iCal Export//EN
BEGIN:VEVENT
SUMMARY:Community Garden &amp; Cleanup
UID:501612
DTSTAMP:20260426T021000Z
DTSTART:20260618T180000Z
DTEND:20260618T190000Z
LOCATION:Martin Luther King, Jr. Branch Library, 2922 Martin Luther King J
 r. Blvd., Dallas, TX 75215, United States
ROOM: Martin Luther King, Jr. - Courtyard
DESCRIPTION:Take ownership of your community in a hands-on way, by taking 
 care of the community garden and helping to clean up shared spaces.
URL:https://dallaslibrary.librarymarket.com/event/community-garden-cleanup
 -501612
END:VEVENT
END:VCALENDAR
