BEGIN:VCALENDAR
VERSION:2.0
PRODID:-//Library Market//iCal Export//EN
BEGIN:VEVENT
SUMMARY:Console Corner
UID:501616
DTSTAMP:20260425T135200Z
DTSTART:20260630T050000Z
DTEND:20260630T050000Z
LOCATION:Martin Luther King, Jr. Branch Library, 2922 Martin Luther King J
 r. Blvd., Dallas, TX 75215, United States
ROOM: Martin Luther King, Jr. - Classroom 1 &amp; 2
DESCRIPTION:
URL:https://dallaslibrary.librarymarket.com/event/console-corner-501616
END:VEVENT
END:VCALENDAR
