BEGIN:VCALENDAR
VERSION:2.0
PRODID:-//Library Market//iCal Export//EN
BEGIN:VEVENT
SUMMARY:DFD Touch-A-Truck
UID:502030
DTSTAMP:20260424T221600Z
DTSTART:20260731T180000Z
DTEND:20260731T190000Z
LOCATION:White Rock Hills Branch Library, 9150 Ferguson Road, Dallas, TX 7
 5228, United States
ROOM: White Rock Hills - Outdoor Area
DESCRIPTION:Explore the inside of a firetruck! Local firefighters will bri
 ng their truck and show you around. 
URL:https://dallaslibrary.librarymarket.com/event/dfd-touch-truck-502030
END:VEVENT
END:VCALENDAR
