BEGIN:VCALENDAR
VERSION:2.0
PRODID:-//Library Market//iCal Export//EN
BEGIN:VEVENT
SUMMARY:Watts Up
UID:502524
DTSTAMP:20260420T201400Z
DTSTART:20260709T190000Z
DTEND:20260709T200000Z
LOCATION:Timberglen Branch Library, 18505 Midway Road, Dallas, TX 75287, U
 nited States
ROOM: Timberglen - Auditorium
DESCRIPTION:Discover the basic properties of electric charge, learn to dis
 tinguish between static electricity and electrical current, and explore th
 e science behind these phenomena. Mad Science will present hands-on activi
 ties in charging and discharging objects with static electricity, all whil
 e allowing the kids to gain a newfound understanding of lightning and stat
 ic shocks. Part of SMART Summer. Sponsored by the Friends of the Dallas P
 ublic Library
URL:https://dallaslibrary.librarymarket.com/event/mad-science-502524
END:VEVENT
END:VCALENDAR
