BEGIN:VCALENDAR
VERSION:2.0
PRODID:-//Library Market//iCal Export//EN
BEGIN:VEVENT
SUMMARY:&quot;Green Thumb Adventure&quot; The Foundation (Soil &amp; Seeds
 )
UID:502672
DTSTAMP:20260426T021000Z
DTSTART:20260602T180000Z
DTEND:20260602T190000Z
LOCATION:Martin Luther King, Jr. Branch Library, 2922 Martin Luther King J
 r. Blvd., Dallas, TX 75215, United States
ROOM: Martin Luther King, Jr. - Classroom 1
DESCRIPTION:Ready, set, grow! Join our high-speed gardening challenge to s
 ee whose seeds sprout first. Learn planting secrets, track your progress, 
 and race your way to a green thumb!
URL:https://dallaslibrary.librarymarket.com/event/green-thumb-adventure-50
 2672
END:VEVENT
END:VCALENDAR
