BEGIN:VCALENDAR
VERSION:2.0
PRODID:-//Library Market//iCal Export//EN
BEGIN:VEVENT
SUMMARY:S.T.E.A.M. - Texas Parks and Wildlife
UID:502853
DTSTAMP:20260422T013600Z
DTSTART:20260612T150000Z
DTEND:20260612T160000Z
LOCATION:Timberglen Branch Library, 18505 Midway Road, Dallas, TX 75287, U
 nited States
ROOM: Timberglen - Classroom
DESCRIPTION:Seniors Tinkering Exploring And MakingWe have STEM for kids an
 d we had STEM for adults. Now it&#039;s time to highlight all of our senio
 rs out there looking to partake in STEM based projects and discussions. Be
 low is June&#039;s topic!Talk with Texas Parks and Wildlife Department&#03
 9;s Urban Wildlife Biologist Rachel Richter about the science behind her c
 areer and information on urban wildlife found in the Dallas area. While sh
 e will primarily talk on the urban wildlife in Denton County (our branch i
 s on the Denton County border to Collin County and Dallas County), she may
  also be able to answer questions related to concerns in your county. We h
 ave also asked for TPWD flyers for the three counties to be distributed du
 ring the event but we may have some leftover to keep on our community info
 rmation board in our lobby. If you have any questions, you are welcome to
  make inquiries by calling, emailing, or stopping in during our business h
 ours. Let&#039;s make Summer Super! 🌞 😎 
URL:https://dallaslibrary.librarymarket.com/event/steam-502853
END:VEVENT
END:VCALENDAR
