BEGIN:VCALENDAR
VERSION:2.0
PRODID:-//Library Market//iCal Export//EN
BEGIN:VEVENT
SUMMARY:PKR Summer Camp
UID:504515
DTSTAMP:20260424T063400Z
DTSTART:20260701T140000Z
DTEND:20260701T210000Z
LOCATION:Dallas West Branch Library, 2332 Singleton Boulevard, Dallas, TX 
 75212, United States
ROOM: Dallas West - Auditorium
DESCRIPTION:Library hour CAP Artist
URL:https://dallaslibrary.librarymarket.com/event/pkr-summer-camp-504515
END:VEVENT
END:VCALENDAR
