BEGIN:VCALENDAR
VERSION:2.0
PRODID:-//Library Market//iCal Export//EN
BEGIN:VEVENT
SUMMARY:Summer Lunch for Kids/Almuerzo de Verano para niños
UID:504592
DTSTAMP:20260421T213200Z
DTSTART:20260702T163000Z
DTEND:20260702T173000Z
LOCATION:Timberglen Branch Library, 18505 Midway Road, Dallas, TX 75287, U
 nited States
ROOM: Timberglen - Auditorium
DESCRIPTION:Refuel with a free, nutritious meal provided by Education PV. 
 Open to ages 1-18. Meals are made possible through the Texas Department of
  Agriculture’s Child and Adult Care Food Program. Reabastecerse con una
  comida nutritiva y gratuita proporcionada por Education PV. Abierto a las
  edades 1-18. Las meriendas son posibles gracias al Programa de Alimentos 
 para el Cuidado de Niños y Adultos del Departamento de Agricultura de Tex
 as.
URL:https://dallaslibrary.librarymarket.com/event/summer-food-service-prog
 ram-504592
END:VEVENT
END:VCALENDAR
