BEGIN:VCALENDAR
VERSION:2.0
PRODID:-//Library Market//iCal Export//EN
BEGIN:VEVENT
SUMMARY:🌟 Explore Your Senses! 🌟
UID:505135
DTSTAMP:20260425T135200Z
DTSTART:20260729T190000Z
DTEND:20260729T200000Z
LOCATION:Dallas West Branch Library, 2332 Singleton Boulevard, Dallas, TX 
 75212, United States
ROOM: Dallas West - Auditorium
DESCRIPTION:Looking for a fun, interactive way to support your child’s d
 evelopment? Come to a sensory play session filled with hands-on stations t
 hat build motor skills, early literacy, and more!Caregivers are required t
 o participate and make the experience even more memorable!
URL:https://dallaslibrary.librarymarket.com/event/explore-senses-505135
END:VEVENT
END:VCALENDAR
