BEGIN:VCALENDAR
VERSION:2.0
PRODID:-//Library Market//iCal Export//EN
BEGIN:VEVENT
SUMMARY:iPad Free Play
UID:506691
DTSTAMP:20260424T004700Z
DTSTART:20260327T210000Z
DTEND:20260327T214500Z
LOCATION:Highland Hills Branch Library, 6200 Bonnie View Road, Dallas, TX 
 75241, United States
ROOM: Highland Hills - Auditorium
DESCRIPTION:Tap, explore, and learn! Kids can enjoy a variety of fun, educ
 ational apps on the iPad that spark creativity, build skills, encourage cu
 riosity and confidence using technology through guided independent play.
URL:https://dallaslibrary.librarymarket.com/event/ipad-free-play-506691
END:VEVENT
END:VCALENDAR
