BEGIN:VCALENDAR
VERSION:2.0
PRODID:-//Library Market//iCal Export//EN
BEGIN:VEVENT
SUMMARY:DIY Factory: Hand Sewing 101
UID:507906
DTSTAMP:20260420T070800Z
DTSTART:20260716T223000Z
DTEND:20260717T003000Z
LOCATION:Renner Frankford Branch Library, 6400 Frankford Road, Dallas, TX 
 75252, United States
ROOM: Renner-Frankford - Auditorium
DESCRIPTION:Learn practical hand sewing skills in this beginner friendly 
 class. Learn essential, foundational stitches that can be used for both cr
 eating and mending. Test those skills as you sew your own pincushion.This 
 is a two-part series, and the second session builds on the first.We will a
 llow walk-ins to take the place of registrants who are not in attendance b
 y 5:40pm.
URL:https://dallaslibrary.librarymarket.com/event/diy-factory-507906
END:VEVENT
END:VCALENDAR
