BEGIN:VCALENDAR
VERSION:2.0
PRODID:-//Library Market//iCal Export//EN
BEGIN:VEVENT
SUMMARY:DIY Factory: Hand Sewing 101
UID:507907
DTSTAMP:20260420T070800Z
DTSTART:20260730T223000Z
DTEND:20260731T003000Z
LOCATION:Renner Frankford Branch Library, 6400 Frankford Road, Dallas, TX 
 75252, United States
ROOM: Renner-Frankford - Auditorium
DESCRIPTION:Learn practical hand sewing skills in this beginner friendly 
 class. Learn essential, foundational stitches that can be used for both cr
 eating and mending. Test those skills as you sew your own simple plushy.Th
 is is a two-part series, and the second session builds on the first.We wil
 l allow walk-ins to take the place of registrants who are not in attendanc
 e by 5:40pm.
URL:https://dallaslibrary.librarymarket.com/event/diy-factory-507907
END:VEVENT
END:VCALENDAR
