BEGIN:VCALENDAR
VERSION:2.0
PRODID:-//Library Market//iCal Export//EN
BEGIN:VEVENT
SUMMARY:Gardening 101: Withstanding the Summer Heat
UID:507936
DTSTAMP:20260419T221100Z
DTSTART:20260614T180000Z
DTEND:20260614T200000Z
LOCATION:Renner Frankford Branch Library, 6400 Frankford Road, Dallas, TX 
 75252, United States
ROOM: Renner-Frankford - In Library
DESCRIPTION:Plants get heat stress, too. This month&#039;s gardening class
  will cover methods to beat the heat and encourage thriving flora. 
URL:https://dallaslibrary.librarymarket.com/event/gardening-101-507936
END:VEVENT
END:VCALENDAR
