BEGIN:VCALENDAR
VERSION:2.0
PRODID:-//Library Market//iCal Export//EN
BEGIN:VEVENT
SUMMARY:Minion Mania
UID:508464
DTSTAMP:20260423T194300Z
DTSTART:20260718T190000Z
DTEND:20260718T203000Z
LOCATION:Mountain Creek Branch Library, 6102 Mountain Creek Parkway, Dalla
 s, TX 75249, United States
ROOM: Mountain Creek - Auditorium
DESCRIPTION:Bananaaa! Get ready for a despicably fun time filled with lau
 ghs, crafts, and a whole lot of yellow chaos. Tap into your inner minion a
 nd explore themed crafts and activities inspired by everyone’s favorite 
 mischievous helpers. Costumes are highly encouraged—break out the yellow
 , goggles, and overalls to fully embrace the fun!Part of SMART Summer spon
 sored by the Friends of the Dallas Public Library.
URL:https://dallaslibrary.librarymarket.com/event/minion-mania-508464
END:VEVENT
END:VCALENDAR
