BEGIN:VCALENDAR
VERSION:2.0
PRODID:-//Library Market//iCal Export//EN
BEGIN:VEVENT
SUMMARY:The Lost Declaration: A Puzzle Room
UID:508584
DTSTAMP:20260421T213200Z
DTSTART:20260702T180000Z
DTEND:20260703T000000Z
LOCATION:Mountain Creek Branch Library, 6102 Mountain Creek Parkway, Dalla
 s, TX 75249, United States
ROOM: Mountain Creek - Auditorium
DESCRIPTION:The Declaration has been stolen! You and your team are the gro
 up of expert archivists that are called in to replace it with a secret cop
 y that looks identical. This secret copy has been sealed in John Adamsâ€™ 
 study since his death and you will work together to interpret the clues, s
 olve the puzzles, and unlock the mystery to recover it. Can you retrieve t
 he document before time runs out?Registration is required, you can registe
 r by phone. There will be designated start times, and each team will have 
 30 minutes to complete all the puzzles. Different groups may be grouped to
 gether to allow more people to participate if needed. Max 8 participants p
 er time slot.Â Limited spaces may be available on the day of the event.Thi
 s program is part of Dallas Public Library&#039;s 250 Years of Us: Reading
  America&#039;s Past, Writing Our Future, brought to you by the generosity
  of Friends of the Dallas Public Library.Dive into the past all year long,
  as we host programs, exhibits and book clubs that explore how our nationâ
 €™s history has shaped American democracy today. Anyone can join our Amazi
 ng Race for Independence challenge and win Dallas Mavericks or Wings ticke
 ts, State Park passes and more!Â 
URL:https://dallaslibrary.librarymarket.com/event/lost-declaration-puzzle-
 room-508584
END:VEVENT
END:VCALENDAR
