BEGIN:VCALENDAR
VERSION:2.0
PRODID:-//Library Market//iCal Export//EN
BEGIN:VEVENT
SUMMARY:Our Voices, Our Village
UID:509638
DTSTAMP:20260425T135200Z
DTSTART:20260617T180000Z
DTEND:20260617T200000Z
LOCATION:Martin Luther King, Jr. Branch Library, 2922 Martin Luther King J
 r. Blvd., Dallas, TX 75215, United States
ROOM: Martin Luther King, Jr. - Classroom 1 &amp; 2
DESCRIPTION:
URL:https://dallaslibrary.librarymarket.com/event/ignite-me-509638
END:VEVENT
END:VCALENDAR
