BEGIN:VCALENDAR
VERSION:2.0
PRODID:-//Library Market//iCal Export//EN
BEGIN:VEVENT
SUMMARY:Financial Literacy Presentation
UID:510457
DTSTAMP:20260425T113500Z
DTSTART:20260520T170000Z
DTEND:20260520T180000Z
LOCATION:Fretz Park Branch Library, 6990 Belt Line Road, Dallas, TX 75254,
  United States
ROOM: Fretz Park - Classroom 1
DESCRIPTION:Gain helpful tips and tricks to improve your financial literac
 y, presented by Steve Scroggin.More details to come!
URL:https://dallaslibrary.librarymarket.com/event/financial-literacy-51045
 7
END:VEVENT
END:VCALENDAR
