BEGIN:VCALENDAR
VERSION:2.0
PRODID:-//Library Market//iCal Export//EN
BEGIN:VEVENT
SUMMARY:Read to Nellie
UID:510477
DTSTAMP:20260423T010200Z
DTSTART:20260805T203000Z
DTEND:20260805T213000Z
LOCATION:Preston Royal Branch Library, 5626 Royal Lane, Dallas, TX 75229, 
 United States
ROOM: Preston Royal - Children&#039;s Area
DESCRIPTION:Have fun practicing reading skills with Nellie, a registered t
 herapy dog with Pet Partners. Nellie will be ready to listen to any story 
 in a one-on-one session. Readers can sign up for a 10-minute time slot, fi
 rst come first serve, and choose a book to practice their reading.Reading 
 to therapy dogs can help improve kids&#039; confidence in their reading ab
 ilities. Since dogs are not judgmental, kids can read to them without feel
 ing the pressure and anxiety that may come from reading to peers.  Sign 
 up for Preston Royal&#039;s monthly newsletter to be among the first to k
 now about future kids&#039; programming!
URL:https://dallaslibrary.librarymarket.com/event/read-nellie-510477
END:VEVENT
END:VCALENDAR
