BEGIN:VCALENDAR
VERSION:2.0
PRODID:-//Library Market//iCal Export//EN
BEGIN:VEVENT
SUMMARY:Dungeons and Dragons
UID:511296
DTSTAMP:20260423T044000Z
DTSTART:20260709T224500Z
DTEND:20260710T004500Z
LOCATION:Timberglen Branch Library, 18505 Midway Road, Dallas, TX 75287, U
 nited States
ROOM: Timberglen - Auditorium
DESCRIPTION:Learn to play Dungeons and Dragons-Attention all Paladins, Cle
 rics, and Bards! Come learn to play Dungeons and Dragons at the Timberglen
  Branch Library, or start up your own adventure. Beginners and Experts are
  all welcome at the table. Character sheets, dice, and beginner informatio
 n will be provided for those that need it. Never played before? No problem
 ! We will teach you the ropes and before you know it you&#039;ll be a Drag
 on slaying master. This should be a fantastical evening of adventure and m
 onster slaying! 
URL:https://dallaslibrary.librarymarket.com/event/dungeons-and-dragons-511
 296
END:VEVENT
END:VCALENDAR
