BEGIN:VCALENDAR
VERSION:2.0
PRODID:-//Library Market//iCal Export//EN
BEGIN:VEVENT
SUMMARY:Fiber Arts Collective
UID:511306
DTSTAMP:20260421T213200Z
DTSTART:20260702T230000Z
DTEND:20260703T004500Z
LOCATION:Timberglen Branch Library, 18505 Midway Road, Dallas, TX 75287, U
 nited States
ROOM: Timberglen - Auditorium
DESCRIPTION:If you want to meet people that also love knitting, embroidery
 , crocheting etc - The Fiber Arts Collective is perfect for you! Once a mo
 nth, the Timberglen Branch Library hosts a space for people to gather afte
 r work and talk while working on their textile skills together. Whether al
 one, or with friends, the Fiber Arts Collective is a wonderful way to meet
  others and share the love of textile arts!
URL:https://dallaslibrary.librarymarket.com/event/fiberarts1012
END:VEVENT
END:VCALENDAR
