BEGIN:VCALENDAR
VERSION:2.0
PRODID:-//Library Market//iCal Export//EN
BEGIN:VEVENT
SUMMARY:Afterschool Snacks
UID:511732
DTSTAMP:20260424T221600Z
DTSTART:20260527T203000Z
DTEND:20260527T211500Z
LOCATION:8333 Park Ln, Dallas, TX 75231, United States
ROOM: Vickery Park - In Library
DESCRIPTION:Free after-school meals for children up to 18 years old are av
 ailable Monday-Friday from 3:30 – 4:15 pm. Meals must be consumed in the
  room in which they are served. Comidas gratuitas después de la escuela 
 para niños de hasta 18 años están disponibles de lunes a viernes de 3:3
 0 p.m. a. 4:15 p. m. Las comidas deben consumirse en el salón en el que
  se sirven.  
URL:https://dallaslibrary.librarymarket.com/event/afterschool-snacks-51173
 2
END:VEVENT
END:VCALENDAR
